BEGIN:VCALENDAR
VERSION:2.0
PRODID:-//Spirit Wind Studio - ECPv6.15.13//NONSGML v1.0//EN
CALSCALE:GREGORIAN
METHOD:PUBLISH
X-WR-CALNAME:Spirit Wind Studio
X-ORIGINAL-URL:https://spiritwindstudio.net
X-WR-CALDESC:Events for Spirit Wind Studio
REFRESH-INTERVAL;VALUE=DURATION:PT1H
X-Robots-Tag:noindex
X-PUBLISHED-TTL:PT1H
BEGIN:VTIMEZONE
TZID:UTC
BEGIN:STANDARD
TZOFFSETFROM:+0000
TZOFFSETTO:+0000
TZNAME:UTC
DTSTART:20220101T000000
END:STANDARD
END:VTIMEZONE
BEGIN:VEVENT
DTSTART;TZID=UTC:20231021T130000
DTEND;TZID=UTC:20231021T160000
DTSTAMP:20260423T194815
CREATED:20231004T034604Z
LAST-MODIFIED:20231004T034604Z
UID:11508-1697893200-1697904000@spiritwindstudio.net
SUMMARY:SoulCollage® Workskhop
DESCRIPTION:In this workshop\, we will dive into collage making\, as always.  Instead of a brief overview of the entire SoulCollage® process\, this session will start with an overview (and exploration) of the Committee Suit.  After that we will make cards\, and as always\, participants can make cards in whatever way they are called to work – this may include making “committee” cards\, or simply choosing the images that call to you and making cards as we have done in previous workshops.  There is no fee for this workshop\, however\, the library does collect a $10-15 contribution toward supplies. \nPlease call the Greenwich Library to register!
URL:https://spiritwindstudio.net/event/soulcollage-workskhop/
LOCATION:Greenwich Library\, 148 Main Street\, Greenwich\, NY\, 12834\, United States
CATEGORIES:SoulCollage®
END:VEVENT
END:VCALENDAR